BEGIN:VCALENDAR
VERSION:2.0
PRODID:-//Bascom Community Church - ECPv6.5.0//NONSGML v1.0//EN
CALSCALE:GREGORIAN
METHOD:PUBLISH
X-WR-CALNAME:Bascom Community Church
X-ORIGINAL-URL:https://www.bascomchurch.com
X-WR-CALDESC:Events for Bascom Community Church
REFRESH-INTERVAL;VALUE=DURATION:PT1H
X-Robots-Tag:noindex
X-PUBLISHED-TTL:PT1H
BEGIN:VTIMEZONE
TZID:America/New_York
BEGIN:DAYLIGHT
TZOFFSETFROM:-0500
TZOFFSETTO:-0400
TZNAME:EDT
DTSTART:20250309T070000
END:DAYLIGHT
BEGIN:STANDARD
TZOFFSETFROM:-0400
TZOFFSETTO:-0500
TZNAME:EST
DTSTART:20251102T060000
END:STANDARD
END:VTIMEZONE
BEGIN:VEVENT
DTSTART;TZID=America/New_York:20250104T090000
DTEND;TZID=America/New_York:20250104T220000
DTSTAMP:20260419T131338
CREATED:20241220T023945Z
LAST-MODIFIED:20241220T023945Z
UID:10000059-1735981200-1736028000@www.bascomchurch.com
SUMMARY:Men's Breakfast
DESCRIPTION:Join Pastor Dean and the men of the church for breakfast at Kemosabes\, 820 Sandusky St.\, Fostoria @ 9 a.m.
URL:https://www.bascomchurch.com/event/mens-breakfast-3/
LOCATION:KemoSabes\, 820 Sandusky St.\, Fostoria\, OH\, 44830\, United States
END:VEVENT
BEGIN:VEVENT
DTSTART;TZID=America/New_York:20250105T113000
DTEND;TZID=America/New_York:20250105T123000
DTSTAMP:20260419T131338
CREATED:20241128T161814Z
LAST-MODIFIED:20241128T161814Z
UID:10000057-1736076600-1736080200@www.bascomchurch.com
SUMMARY:Taking down the Greens
DESCRIPTION:As the Christmas season ends\, we will undecorate the church after Worship service.
URL:https://www.bascomchurch.com/event/taking-down-the-greens/
END:VEVENT
BEGIN:VEVENT
DTSTART;TZID=America/New_York:20250129T180000
DTEND;TZID=America/New_York:20250129T190000
DTSTAMP:20260419T131338
CREATED:20241128T162008Z
LAST-MODIFIED:20241128T162008Z
UID:10000058-1738173600-1738177200@www.bascomchurch.com
SUMMARY:Good Shepherd worship service
DESCRIPTION:Pastor Dean and Danene facilitate the worship service held at Good Shepherd Home\,
URL:https://www.bascomchurch.com/event/good-shepherd-worship-service/
END:VEVENT
END:VCALENDAR